BEGIN:VCALENDAR
VERSION:2.0
PRODID:-//WhenKickoff//Match Reminder//EN
BEGIN:VEVENT
UID:wk-556721-15@whenkickoff.com
DTSTAMP:20260419T135918Z
DTSTART:20260407T190000Z
DTEND:20260407T210000Z
SUMMARY:Sporting Clube de Portugal vs Arsenal FC
DESCRIPTION:WhenKickoff reminder for Sporting Clube de Portugal vs Arsenal FC
URL:https://whenkickoff.com/en/match/sporting-clube-de-portugal-vs-arsenal-fc-556721/
BEGIN:VALARM
TRIGGER:-PT15M
ACTION:DISPLAY
DESCRIPTION:Match starts soon
END:VALARM
END:VEVENT
END:VCALENDAR
