BEGIN:VCALENDAR
VERSION:2.0
PRODID:-//WhenKickoff//Match Reminder//EN
BEGIN:VEVENT
UID:wk-556718-15@whenkickoff.com
DTSTAMP:20260419T135922Z
DTSTART:20260408T190000Z
DTEND:20260408T210000Z
SUMMARY:Paris Saint-Germain FC vs Liverpool FC
DESCRIPTION:WhenKickoff reminder for Paris Saint-Germain FC vs Liverpool FC
URL:https://whenkickoff.com/en/match/paris-saint-germain-fc-vs-liverpool-fc-556718/
BEGIN:VALARM
TRIGGER:-PT15M
ACTION:DISPLAY
DESCRIPTION:Match starts soon
END:VALARM
END:VEVENT
END:VCALENDAR
