BEGIN:VCALENDAR
VERSION:2.0
PRODID:-//WhenKickoff//Match Reminder//EN
BEGIN:VEVENT
UID:wk-554879-15@whenkickoff.com
DTSTAMP:20260419T143731Z
DTSTART:20260502T213000Z
DTEND:20260502T233000Z
SUMMARY:EC Vitória vs Coritiba FBC
DESCRIPTION:WhenKickoff reminder for EC Vitória vs Coritiba FBC
URL:https://whenkickoff.com/en/match/ec-vit-ria-vs-coritiba-fbc-554879/
BEGIN:VALARM
TRIGGER:-PT15M
ACTION:DISPLAY
DESCRIPTION:Match starts soon
END:VALARM
END:VEVENT
END:VCALENDAR
