BEGIN:VCALENDAR
VERSION:2.0
PRODID:-//WhenKickoff//Match Reminder//EN
BEGIN:VEVENT
UID:wk-554871-15@whenkickoff.com
DTSTAMP:20260419T143732Z
DTSTART:20260502T190000Z
DTEND:20260502T210000Z
SUMMARY:Botafogo FR vs Clube do Remo
DESCRIPTION:WhenKickoff reminder for Botafogo FR vs Clube do Remo
URL:https://whenkickoff.com/en/match/botafogo-fr-vs-clube-do-remo-554871/
BEGIN:VALARM
TRIGGER:-PT15M
ACTION:DISPLAY
DESCRIPTION:Match starts soon
END:VALARM
END:VEVENT
END:VCALENDAR
