BEGIN:VCALENDAR
VERSION:2.0
PRODID:-//WhenKickoff//Match Reminder//EN
BEGIN:VEVENT
UID:wk-554870-15@whenkickoff.com
DTSTAMP:20260419T143728Z
DTSTART:20260502T233000Z
DTEND:20260503T013000Z
SUMMARY:CA Paranaense vs Grêmio FBPA
DESCRIPTION:WhenKickoff reminder for CA Paranaense vs Grêmio FBPA
URL:https://whenkickoff.com/en/match/ca-paranaense-vs-gr-mio-fbpa-554870/
BEGIN:VALARM
TRIGGER:-PT15M
ACTION:DISPLAY
DESCRIPTION:Match starts soon
END:VALARM
END:VEVENT
END:VCALENDAR
