BEGIN:VCALENDAR
VERSION:2.0
PRODID:-//WhenKickoff//Match Reminder//EN
BEGIN:VEVENT
UID:wk-554869-15@whenkickoff.com
DTSTAMP:20260419T143731Z
DTSTART:20260426T000000Z
DTEND:20260426T020000Z
SUMMARY:São Paulo FC vs Mirassol FC
DESCRIPTION:WhenKickoff reminder for São Paulo FC vs Mirassol FC
URL:https://whenkickoff.com/en/match/s-o-paulo-fc-vs-mirassol-fc-554869/
BEGIN:VALARM
TRIGGER:-PT15M
ACTION:DISPLAY
DESCRIPTION:Match starts soon
END:VALARM
END:VEVENT
END:VCALENDAR
