BEGIN:VCALENDAR
VERSION:2.0
PRODID:-//WhenKickoff//Match Reminder//EN
BEGIN:VEVENT
UID:wk-554867-15@whenkickoff.com
DTSTAMP:20260419T165241Z
DTSTART:20260426T190000Z
DTEND:20260426T210000Z
SUMMARY:Grêmio FBPA vs Coritiba FBC
DESCRIPTION:WhenKickoff reminder for Grêmio FBPA vs Coritiba FBC
URL:https://whenkickoff.com/en/match/gr-mio-fbpa-vs-coritiba-fbc-554867/
BEGIN:VALARM
TRIGGER:-PT15M
ACTION:DISPLAY
DESCRIPTION:Match starts soon
END:VALARM
END:VEVENT
END:VCALENDAR
