BEGIN:VCALENDAR
VERSION:2.0
PRODID:-//WhenKickoff//Match Reminder//EN
BEGIN:VEVENT
UID:wk-554866-15@whenkickoff.com
DTSTAMP:20260419T143729Z
DTSTART:20260426T233000Z
DTEND:20260427T013000Z
SUMMARY:Fluminense FC vs Chapecoense AF
DESCRIPTION:WhenKickoff reminder for Fluminense FC vs Chapecoense AF
URL:https://whenkickoff.com/en/match/fluminense-fc-vs-chapecoense-af-554866/
BEGIN:VALARM
TRIGGER:-PT15M
ACTION:DISPLAY
DESCRIPTION:Match starts soon
END:VALARM
END:VEVENT
END:VCALENDAR
