BEGIN:VCALENDAR
VERSION:2.0
PRODID:-//WhenKickoff//Match Reminder//EN
BEGIN:VEVENT
UID:wk-554865-15@whenkickoff.com
DTSTAMP:20260419T162909Z
DTSTART:20260426T190000Z
DTEND:20260426T210000Z
SUMMARY:SC Corinthians Paulista vs CR Vasco da Gama
DESCRIPTION:WhenKickoff reminder for SC Corinthians Paulista vs CR Vasco da Gama
URL:https://whenkickoff.com/en/match/sc-corinthians-paulista-vs-cr-vasco-da-gama-554865/
BEGIN:VALARM
TRIGGER:-PT15M
ACTION:DISPLAY
DESCRIPTION:Match starts soon
END:VALARM
END:VEVENT
END:VCALENDAR
