BEGIN:VCALENDAR
VERSION:2.0
PRODID:-//WhenKickoff//Match Reminder//EN
BEGIN:VEVENT
UID:wk-554864-15@whenkickoff.com
DTSTAMP:20260419T201250Z
DTSTART:20260426T213000Z
DTEND:20260426T233000Z
SUMMARY:RB Bragantino vs SE Palmeiras
DESCRIPTION:WhenKickoff reminder for RB Bragantino vs SE Palmeiras
URL:https://whenkickoff.com/en/match/rb-bragantino-vs-se-palmeiras-554864/
BEGIN:VALARM
TRIGGER:-PT15M
ACTION:DISPLAY
DESCRIPTION:Match starts soon
END:VALARM
END:VEVENT
END:VCALENDAR
