BEGIN:VCALENDAR
VERSION:2.0
PRODID:-//WhenKickoff//Match Reminder//EN
BEGIN:VEVENT
UID:wk-554852-15@whenkickoff.com
DTSTAMP:20260419T201250Z
DTSTART:20260419T190000Z
DTEND:20260419T210000Z
SUMMARY:Coritiba FBC vs CA Mineiro
DESCRIPTION:WhenKickoff reminder for Coritiba FBC vs CA Mineiro
URL:https://whenkickoff.com/en/match/coritiba-fbc-vs-ca-mineiro-554852/
BEGIN:VALARM
TRIGGER:-PT15M
ACTION:DISPLAY
DESCRIPTION:Match starts soon
END:VALARM
END:VEVENT
END:VCALENDAR
