BEGIN:VCALENDAR
VERSION:2.0
PRODID:-//WhenKickoff//Match Reminder//EN
BEGIN:VEVENT
UID:wk-554839-15@whenkickoff.com
DTSTAMP:20260419T163011Z
DTSTART:20260405T000000Z
DTEND:20260405T020000Z
SUMMARY:CR Vasco da Gama vs Botafogo FR
DESCRIPTION:WhenKickoff reminder for CR Vasco da Gama vs Botafogo FR
URL:https://whenkickoff.com/en/match/cr-vasco-da-gama-vs-botafogo-fr-554839/
BEGIN:VALARM
TRIGGER:-PT15M
ACTION:DISPLAY
DESCRIPTION:Match starts soon
END:VALARM
END:VEVENT
END:VCALENDAR
