BEGIN:VCALENDAR
VERSION:2.0
PRODID:-//WhenKickoff//Match Reminder//EN
BEGIN:VEVENT
UID:wk-554837-15@whenkickoff.com
DTSTAMP:20260419T123345Z
DTSTART:20260405T230000Z
DTEND:20260406T010000Z
SUMMARY:Mirassol FC vs RB Bragantino
DESCRIPTION:WhenKickoff reminder for Mirassol FC vs RB Bragantino
URL:https://whenkickoff.com/en/match/mirassol-fc-vs-rb-bragantino-554837/
BEGIN:VALARM
TRIGGER:-PT15M
ACTION:DISPLAY
DESCRIPTION:Match starts soon
END:VALARM
END:VEVENT
END:VCALENDAR
