BEGIN:VCALENDAR
VERSION:2.0
PRODID:-//WhenKickoff//Match Reminder//EN
BEGIN:VEVENT
UID:wk-554836-15@whenkickoff.com
DTSTAMP:20260419T123345Z
DTSTART:20260405T233000Z
DTEND:20260406T013000Z
SUMMARY:Grêmio FBPA vs Clube do Remo
DESCRIPTION:WhenKickoff reminder for Grêmio FBPA vs Clube do Remo
URL:https://whenkickoff.com/en/match/gr-mio-fbpa-vs-clube-do-remo-554836/
BEGIN:VALARM
TRIGGER:-PT15M
ACTION:DISPLAY
DESCRIPTION:Match starts soon
END:VALARM
END:VEVENT
END:VCALENDAR
