BEGIN:VCALENDAR
VERSION:2.0
PRODID:-//WhenKickoff//Match Reminder//EN
BEGIN:VEVENT
UID:wk-554830-15@whenkickoff.com
DTSTAMP:20260419T200116Z
DTSTART:20260405T203000Z
DTEND:20260405T223000Z
SUMMARY:CA Mineiro vs CA Paranaense
DESCRIPTION:WhenKickoff reminder for CA Mineiro vs CA Paranaense
URL:https://whenkickoff.com/en/match/ca-mineiro-vs-ca-paranaense-554830/
BEGIN:VALARM
TRIGGER:-PT15M
ACTION:DISPLAY
DESCRIPTION:Match starts soon
END:VALARM
END:VEVENT
END:VCALENDAR
