BEGIN:VCALENDAR
VERSION:2.0
PRODID:-//WhenKickoff//Match Reminder//EN
BEGIN:VEVENT
UID:wk-554829-15@whenkickoff.com
DTSTAMP:20260419T123218Z
DTSTART:20260402T220000Z
DTEND:20260403T000000Z
SUMMARY:Santos FC vs Clube do Remo
DESCRIPTION:WhenKickoff reminder for Santos FC vs Clube do Remo
URL:https://whenkickoff.com/en/match/santos-fc-vs-clube-do-remo-554829/
BEGIN:VALARM
TRIGGER:-PT15M
ACTION:DISPLAY
DESCRIPTION:Match starts soon
END:VALARM
END:VEVENT
END:VCALENDAR
