BEGIN:VCALENDAR
VERSION:2.0
PRODID:-//WhenKickoff//Match Reminder//EN
BEGIN:VEVENT
UID:wk-554828-15@whenkickoff.com
DTSTAMP:20260419T163013Z
DTSTART:20260403T003000Z
DTEND:20260403T023000Z
SUMMARY:SE Palmeiras vs Grêmio FBPA
DESCRIPTION:WhenKickoff reminder for SE Palmeiras vs Grêmio FBPA
URL:https://whenkickoff.com/en/match/se-palmeiras-vs-gr-mio-fbpa-554828/
BEGIN:VALARM
TRIGGER:-PT15M
ACTION:DISPLAY
DESCRIPTION:Match starts soon
END:VALARM
END:VEVENT
END:VCALENDAR
