BEGIN:VCALENDAR
VERSION:2.0
PRODID:-//WhenKickoff//Match Reminder//EN
BEGIN:VEVENT
UID:wk-554822-15@whenkickoff.com
DTSTAMP:20260419T123218Z
DTSTART:20260403T003000Z
DTEND:20260403T023000Z
SUMMARY:RB Bragantino vs CR Flamengo
DESCRIPTION:WhenKickoff reminder for RB Bragantino vs CR Flamengo
URL:https://whenkickoff.com/en/match/rb-bragantino-vs-cr-flamengo-554822/
BEGIN:VALARM
TRIGGER:-PT15M
ACTION:DISPLAY
DESCRIPTION:Match starts soon
END:VALARM
END:VEVENT
END:VCALENDAR
