BEGIN:VCALENDAR
VERSION:2.0
PRODID:-//WhenKickoff//Match Reminder//EN
BEGIN:VEVENT
UID:wk-554821-15@whenkickoff.com
DTSTAMP:20260419T200127Z
DTSTART:20260401T223000Z
DTEND:20260402T003000Z
SUMMARY:Botafogo FR vs Mirassol FC
DESCRIPTION:WhenKickoff reminder for Botafogo FR vs Mirassol FC
URL:https://whenkickoff.com/en/match/botafogo-fr-vs-mirassol-fc-554821/
BEGIN:VALARM
TRIGGER:-PT15M
ACTION:DISPLAY
DESCRIPTION:Match starts soon
END:VALARM
END:VEVENT
END:VCALENDAR
