BEGIN:VCALENDAR
VERSION:2.0
PRODID:-//WhenKickoff//Match Reminder//EN
BEGIN:VEVENT
UID:wk-554820-15@whenkickoff.com
DTSTAMP:20260419T163013Z
DTSTART:20260401T230000Z
DTEND:20260402T010000Z
SUMMARY:EC Bahia vs CA Paranaense
DESCRIPTION:WhenKickoff reminder for EC Bahia vs CA Paranaense
URL:https://whenkickoff.com/en/match/ec-bahia-vs-ca-paranaense-554820/
BEGIN:VALARM
TRIGGER:-PT15M
ACTION:DISPLAY
DESCRIPTION:Match starts soon
END:VALARM
END:VEVENT
END:VCALENDAR
