BEGIN:VCALENDAR
VERSION:2.0
PRODID:-//WhenKickoff//Match Reminder//EN
BEGIN:VEVENT
UID:wk-554817-15@whenkickoff.com
DTSTAMP:20260419T165241Z
DTSTART:20260322T000000Z
DTEND:20260322T020000Z
SUMMARY:São Paulo FC vs SE Palmeiras
DESCRIPTION:WhenKickoff reminder for São Paulo FC vs SE Palmeiras
URL:https://whenkickoff.com/en/match/s-o-paulo-fc-vs-se-palmeiras-554817/
BEGIN:VALARM
TRIGGER:-PT15M
ACTION:DISPLAY
DESCRIPTION:Match starts soon
END:VALARM
END:VEVENT
END:VCALENDAR
