BEGIN:VCALENDAR
VERSION:2.0
PRODID:-//WhenKickoff//Match Reminder//EN
BEGIN:VEVENT
UID:wk-554809-15@whenkickoff.com
DTSTAMP:20260419T153816Z
DTSTART:20260319T003000Z
DTEND:20260319T023000Z
SUMMARY:CR Vasco da Gama vs Fluminense FC
DESCRIPTION:WhenKickoff reminder for CR Vasco da Gama vs Fluminense FC
URL:https://whenkickoff.com/en/match/cr-vasco-da-gama-vs-fluminense-fc-554809/
BEGIN:VALARM
TRIGGER:-PT15M
ACTION:DISPLAY
DESCRIPTION:Match starts soon
END:VALARM
END:VEVENT
END:VCALENDAR
