BEGIN:VCALENDAR
VERSION:2.0
PRODID:-//WhenKickoff//Match Reminder//EN
BEGIN:VEVENT
UID:wk-554807-15@whenkickoff.com
DTSTAMP:20260419T163012Z
DTSTART:20260318T220000Z
DTEND:20260319T000000Z
SUMMARY:SE Palmeiras vs Botafogo FR
DESCRIPTION:WhenKickoff reminder for SE Palmeiras vs Botafogo FR
URL:https://whenkickoff.com/en/match/se-palmeiras-vs-botafogo-fr-554807/
BEGIN:VALARM
TRIGGER:-PT15M
ACTION:DISPLAY
DESCRIPTION:Match starts soon
END:VALARM
END:VEVENT
END:VCALENDAR
