BEGIN:VCALENDAR
VERSION:2.0
PRODID:-//WhenKickoff//Match Reminder//EN
BEGIN:VEVENT
UID:wk-554800-15@whenkickoff.com
DTSTAMP:20260419T163011Z
DTSTART:20260318T223000Z
DTEND:20260319T003000Z
SUMMARY:CA Paranaense vs Cruzeiro EC
DESCRIPTION:WhenKickoff reminder for CA Paranaense vs Cruzeiro EC
URL:https://whenkickoff.com/en/match/ca-paranaense-vs-cruzeiro-ec-554800/
BEGIN:VALARM
TRIGGER:-PT15M
ACTION:DISPLAY
DESCRIPTION:Match starts soon
END:VALARM
END:VEVENT
END:VCALENDAR
