BEGIN:VCALENDAR
VERSION:2.0
PRODID:-//WhenKickoff//Match Reminder//EN
BEGIN:VEVENT
UID:wk-554798-15@whenkickoff.com
DTSTAMP:20260419T181818Z
DTSTART:20260315T190000Z
DTEND:20260315T210000Z
SUMMARY:Santos FC vs SC Corinthians Paulista
DESCRIPTION:WhenKickoff reminder for Santos FC vs SC Corinthians Paulista
URL:https://whenkickoff.com/en/match/santos-fc-vs-sc-corinthians-paulista-554798/
BEGIN:VALARM
TRIGGER:-PT15M
ACTION:DISPLAY
DESCRIPTION:Match starts soon
END:VALARM
END:VEVENT
END:VCALENDAR
