BEGIN:VCALENDAR
VERSION:2.0
PRODID:-//WhenKickoff//Match Reminder//EN
BEGIN:VEVENT
UID:wk-554796-15@whenkickoff.com
DTSTAMP:20260419T200117Z
DTSTART:20260315T190000Z
DTEND:20260315T210000Z
SUMMARY:SC Internacional vs EC Bahia
DESCRIPTION:WhenKickoff reminder for SC Internacional vs EC Bahia
URL:https://whenkickoff.com/en/match/sc-internacional-vs-ec-bahia-554796/
BEGIN:VALARM
TRIGGER:-PT15M
ACTION:DISPLAY
DESCRIPTION:Match starts soon
END:VALARM
END:VEVENT
END:VCALENDAR
