BEGIN:VCALENDAR
VERSION:2.0
PRODID:-//WhenKickoff//Match Reminder//EN
BEGIN:VEVENT
UID:wk-554794-15@whenkickoff.com
DTSTAMP:20260419T175456Z
DTSTART:20260315T233000Z
DTEND:20260316T013000Z
SUMMARY:Cruzeiro EC vs CR Vasco da Gama
DESCRIPTION:WhenKickoff reminder for Cruzeiro EC vs CR Vasco da Gama
URL:https://whenkickoff.com/en/match/cruzeiro-ec-vs-cr-vasco-da-gama-554794/
BEGIN:VALARM
TRIGGER:-PT15M
ACTION:DISPLAY
DESCRIPTION:Match starts soon
END:VALARM
END:VEVENT
END:VCALENDAR
