BEGIN:VCALENDAR
VERSION:2.0
PRODID:-//WhenKickoff//Match Reminder//EN
BEGIN:VEVENT
UID:wk-554791-15@whenkickoff.com
DTSTAMP:20260419T123218Z
DTSTART:20260315T233000Z
DTEND:20260316T013000Z
SUMMARY:RB Bragantino vs São Paulo FC
DESCRIPTION:WhenKickoff reminder for RB Bragantino vs São Paulo FC
URL:https://whenkickoff.com/en/match/rb-bragantino-vs-s-o-paulo-fc-554791/
BEGIN:VALARM
TRIGGER:-PT15M
ACTION:DISPLAY
DESCRIPTION:Match starts soon
END:VALARM
END:VEVENT
END:VCALENDAR
