BEGIN:VCALENDAR
VERSION:2.0
PRODID:-//WhenKickoff//Match Reminder//EN
BEGIN:VEVENT
UID:wk-554790-15@whenkickoff.com
DTSTAMP:20260419T143728Z
DTSTART:20260314T233000Z
DTEND:20260315T013000Z
SUMMARY:Botafogo FR vs CR Flamengo
DESCRIPTION:WhenKickoff reminder for Botafogo FR vs CR Flamengo
URL:https://whenkickoff.com/en/match/botafogo-fr-vs-cr-flamengo-554790/
BEGIN:VALARM
TRIGGER:-PT15M
ACTION:DISPLAY
DESCRIPTION:Match starts soon
END:VALARM
END:VEVENT
END:VCALENDAR
