BEGIN:VCALENDAR
VERSION:2.0
PRODID:-//WhenKickoff//Match Reminder//EN
BEGIN:VEVENT
UID:wk-554789-15@whenkickoff.com
DTSTAMP:20260419T193553Z
DTSTART:20260312T223000Z
DTEND:20260313T003000Z
SUMMARY:CR Vasco da Gama vs SE Palmeiras
DESCRIPTION:WhenKickoff reminder for CR Vasco da Gama vs SE Palmeiras
URL:https://whenkickoff.com/en/match/cr-vasco-da-gama-vs-se-palmeiras-554789/
BEGIN:VALARM
TRIGGER:-PT15M
ACTION:DISPLAY
DESCRIPTION:Match starts soon
END:VALARM
END:VEVENT
END:VCALENDAR
