BEGIN:VCALENDAR
VERSION:2.0
PRODID:-//WhenKickoff//Match Reminder//EN
BEGIN:VEVENT
UID:wk-554787-15@whenkickoff.com
DTSTAMP:20260419T211243Z
DTSTART:20260312T220000Z
DTEND:20260313T000000Z
SUMMARY:Clube do Remo vs Fluminense FC
DESCRIPTION:WhenKickoff reminder for Clube do Remo vs Fluminense FC
URL:https://whenkickoff.com/en/match/clube-do-remo-vs-fluminense-fc-554787/
BEGIN:VALARM
TRIGGER:-PT15M
ACTION:DISPLAY
DESCRIPTION:Match starts soon
END:VALARM
END:VEVENT
END:VCALENDAR
