BEGIN:VCALENDAR
VERSION:2.0
PRODID:-//WhenKickoff//Match Reminder//EN
BEGIN:VEVENT
UID:wk-554786-15@whenkickoff.com
DTSTAMP:20260419T192316Z
DTSTART:20260311T003000Z
DTEND:20260311T023000Z
SUMMARY:Mirassol FC vs Santos FC
DESCRIPTION:WhenKickoff reminder for Mirassol FC vs Santos FC
URL:https://whenkickoff.com/en/match/mirassol-fc-vs-santos-fc-554786/
BEGIN:VALARM
TRIGGER:-PT15M
ACTION:DISPLAY
DESCRIPTION:Match starts soon
END:VALARM
END:VEVENT
END:VCALENDAR
