BEGIN:VCALENDAR
VERSION:2.0
PRODID:-//WhenKickoff//Match Reminder//EN
BEGIN:VEVENT
UID:wk-554783-15@whenkickoff.com
DTSTAMP:20260419T212412Z
DTSTART:20260312T003000Z
DTEND:20260312T023000Z
SUMMARY:SC Corinthians Paulista vs Coritiba FBC
DESCRIPTION:WhenKickoff reminder for SC Corinthians Paulista vs Coritiba FBC
URL:https://whenkickoff.com/en/match/sc-corinthians-paulista-vs-coritiba-fbc-554783/
BEGIN:VALARM
TRIGGER:-PT15M
ACTION:DISPLAY
DESCRIPTION:Match starts soon
END:VALARM
END:VEVENT
END:VCALENDAR
