BEGIN:VCALENDAR
VERSION:2.0
PRODID:-//WhenKickoff//Match Reminder//EN
BEGIN:VEVENT
UID:wk-554779-15@whenkickoff.com
DTSTAMP:20260420T030216Z
DTSTART:20260226T220000Z
DTEND:20260227T000000Z
SUMMARY:Santos FC vs CR Vasco da Gama
DESCRIPTION:WhenKickoff reminder for Santos FC vs CR Vasco da Gama
URL:https://whenkickoff.com/en/match/santos-fc-vs-cr-vasco-da-gama-554779/
BEGIN:VALARM
TRIGGER:-PT15M
ACTION:DISPLAY
DESCRIPTION:Match starts soon
END:VALARM
END:VEVENT
END:VCALENDAR
