BEGIN:VCALENDAR
VERSION:2.0
PRODID:-//WhenKickoff//Match Reminder//EN
BEGIN:VEVENT
UID:wk-554778-15@whenkickoff.com
DTSTAMP:20260420T045858Z
DTSTART:20260225T220000Z
DTEND:20260226T000000Z
SUMMARY:Clube do Remo vs SC Internacional
DESCRIPTION:WhenKickoff reminder for Clube do Remo vs SC Internacional
URL:https://whenkickoff.com/en/match/clube-do-remo-vs-sc-internacional-554778/
BEGIN:VALARM
TRIGGER:-PT15M
ACTION:DISPLAY
DESCRIPTION:Match starts soon
END:VALARM
END:VEVENT
END:VCALENDAR
