BEGIN:VCALENDAR
VERSION:2.0
PRODID:-//WhenKickoff//Match Reminder//EN
BEGIN:VEVENT
UID:wk-554777-15@whenkickoff.com
DTSTAMP:20260420T005643Z
DTSTART:20260226T003000Z
DTEND:20260226T023000Z
SUMMARY:SE Palmeiras vs Fluminense FC
DESCRIPTION:WhenKickoff reminder for SE Palmeiras vs Fluminense FC
URL:https://whenkickoff.com/en/match/se-palmeiras-vs-fluminense-fc-554777/
BEGIN:VALARM
TRIGGER:-PT15M
ACTION:DISPLAY
DESCRIPTION:Match starts soon
END:VALARM
END:VEVENT
END:VCALENDAR
