BEGIN:VCALENDAR
VERSION:2.0
PRODID:-//WhenKickoff//Match Reminder//EN
BEGIN:VEVENT
UID:wk-554776-15@whenkickoff.com
DTSTAMP:20260420T020323Z
DTSTART:20260226T003000Z
DTEND:20260226T023000Z
SUMMARY:Grêmio FBPA vs CA Mineiro
DESCRIPTION:WhenKickoff reminder for Grêmio FBPA vs CA Mineiro
URL:https://whenkickoff.com/en/match/gr-mio-fbpa-vs-ca-mineiro-554776/
BEGIN:VALARM
TRIGGER:-PT15M
ACTION:DISPLAY
DESCRIPTION:Match starts soon
END:VALARM
END:VEVENT
END:VCALENDAR
