BEGIN:VCALENDAR
VERSION:2.0
PRODID:-//WhenKickoff//Match Reminder//EN
BEGIN:VEVENT
UID:wk-554775-15@whenkickoff.com
DTSTAMP:20260420T045800Z
DTSTART:20260225T000000Z
DTEND:20260225T020000Z
SUMMARY:CR Flamengo vs Mirassol FC
DESCRIPTION:WhenKickoff reminder for CR Flamengo vs Mirassol FC
URL:https://whenkickoff.com/en/match/cr-flamengo-vs-mirassol-fc-554775/
BEGIN:VALARM
TRIGGER:-PT15M
ACTION:DISPLAY
DESCRIPTION:Match starts soon
END:VALARM
END:VEVENT
END:VCALENDAR
