BEGIN:VCALENDAR
VERSION:2.0
PRODID:-//WhenKickoff//Match Reminder//EN
BEGIN:VEVENT
UID:wk-554774-15@whenkickoff.com
DTSTAMP:20260419T231157Z
DTSTART:20260225T230000Z
DTEND:20260226T010000Z
SUMMARY:Cruzeiro EC vs SC Corinthians Paulista
DESCRIPTION:WhenKickoff reminder for Cruzeiro EC vs SC Corinthians Paulista
URL:https://whenkickoff.com/en/match/cruzeiro-ec-vs-sc-corinthians-paulista-554774/
BEGIN:VALARM
TRIGGER:-PT15M
ACTION:DISPLAY
DESCRIPTION:Match starts soon
END:VALARM
END:VEVENT
END:VCALENDAR
