BEGIN:VCALENDAR
VERSION:2.0
PRODID:-//WhenKickoff//Match Reminder//EN
BEGIN:VEVENT
UID:wk-554773-15@whenkickoff.com
DTSTAMP:20260420T013933Z
DTSTART:20260225T223000Z
DTEND:20260226T003000Z
SUMMARY:Coritiba FBC vs São Paulo FC
DESCRIPTION:WhenKickoff reminder for Coritiba FBC vs São Paulo FC
URL:https://whenkickoff.com/en/match/coritiba-fbc-vs-s-o-paulo-fc-554773/
BEGIN:VALARM
TRIGGER:-PT15M
ACTION:DISPLAY
DESCRIPTION:Match starts soon
END:VALARM
END:VEVENT
END:VCALENDAR
