BEGIN:VCALENDAR
VERSION:2.0
PRODID:-//WhenKickoff//Match Reminder//EN
BEGIN:VEVENT
UID:wk-554771-15@whenkickoff.com
DTSTAMP:20260420T011722Z
DTSTART:20260225T000000Z
DTEND:20260225T020000Z
SUMMARY:Botafogo FR vs EC Vitória
DESCRIPTION:WhenKickoff reminder for Botafogo FR vs EC Vitória
URL:https://whenkickoff.com/en/match/botafogo-fr-vs-ec-vit-ria-554771/
BEGIN:VALARM
TRIGGER:-PT15M
ACTION:DISPLAY
DESCRIPTION:Match starts soon
END:VALARM
END:VEVENT
END:VCALENDAR
