BEGIN:VCALENDAR
VERSION:2.0
PRODID:-//WhenKickoff//Match Reminder//EN
BEGIN:VEVENT
UID:wk-554770-15@whenkickoff.com
DTSTAMP:20260420T013933Z
DTSTART:20260225T000000Z
DTEND:20260225T020000Z
SUMMARY:EC Bahia vs Chapecoense AF
DESCRIPTION:WhenKickoff reminder for EC Bahia vs Chapecoense AF
URL:https://whenkickoff.com/en/match/ec-bahia-vs-chapecoense-af-554770/
BEGIN:VALARM
TRIGGER:-PT15M
ACTION:DISPLAY
DESCRIPTION:Match starts soon
END:VALARM
END:VEVENT
END:VCALENDAR
