BEGIN:VCALENDAR
VERSION:2.0
PRODID:-//WhenKickoff//Match Reminder//EN
BEGIN:VEVENT
UID:wk-554769-15@whenkickoff.com
DTSTAMP:20260420T080254Z
DTSTART:20260211T003000Z
DTEND:20260211T023000Z
SUMMARY:EC Vitória vs CR Flamengo
DESCRIPTION:WhenKickoff reminder for EC Vitória vs CR Flamengo
URL:https://whenkickoff.com/en/match/ec-vit-ria-vs-cr-flamengo-554769/
BEGIN:VALARM
TRIGGER:-PT15M
ACTION:DISPLAY
DESCRIPTION:Match starts soon
END:VALARM
END:VEVENT
END:VCALENDAR
