BEGIN:VCALENDAR
VERSION:2.0
PRODID:-//WhenKickoff//Match Reminder//EN
BEGIN:VEVENT
UID:wk-554766-15@whenkickoff.com
DTSTAMP:20260420T081620Z
DTSTART:20260211T220000Z
DTEND:20260212T000000Z
SUMMARY:Mirassol FC vs Cruzeiro EC
DESCRIPTION:WhenKickoff reminder for Mirassol FC vs Cruzeiro EC
URL:https://whenkickoff.com/en/match/mirassol-fc-vs-cruzeiro-ec-554766/
BEGIN:VALARM
TRIGGER:-PT15M
ACTION:DISPLAY
DESCRIPTION:Match starts soon
END:VALARM
END:VEVENT
END:VCALENDAR
