BEGIN:VCALENDAR
VERSION:2.0
PRODID:-//WhenKickoff//Match Reminder//EN
BEGIN:VEVENT
UID:wk-554765-15@whenkickoff.com
DTSTAMP:20260420T072909Z
DTSTART:20260213T003000Z
DTEND:20260213T023000Z
SUMMARY:SC Internacional vs SE Palmeiras
DESCRIPTION:WhenKickoff reminder for SC Internacional vs SE Palmeiras
URL:https://whenkickoff.com/en/match/sc-internacional-vs-se-palmeiras-554765/
BEGIN:VALARM
TRIGGER:-PT15M
ACTION:DISPLAY
DESCRIPTION:Match starts soon
END:VALARM
END:VEVENT
END:VCALENDAR
