BEGIN:VCALENDAR
VERSION:2.0
PRODID:-//WhenKickoff//Match Reminder//EN
BEGIN:VEVENT
UID:wk-554764-15@whenkickoff.com
DTSTAMP:20260420T092010Z
DTSTART:20260212T223000Z
DTEND:20260213T003000Z
SUMMARY:Fluminense FC vs Botafogo FR
DESCRIPTION:WhenKickoff reminder for Fluminense FC vs Botafogo FR
URL:https://whenkickoff.com/en/match/fluminense-fc-vs-botafogo-fr-554764/
BEGIN:VALARM
TRIGGER:-PT15M
ACTION:DISPLAY
DESCRIPTION:Match starts soon
END:VALARM
END:VEVENT
END:VCALENDAR
