BEGIN:VCALENDAR
VERSION:2.0
PRODID:-//WhenKickoff//Match Reminder//EN
BEGIN:VEVENT
UID:wk-554762-15@whenkickoff.com
DTSTAMP:20260420T080411Z
DTSTART:20260211T220000Z
DTEND:20260212T000000Z
SUMMARY:Chapecoense AF vs Coritiba FBC
DESCRIPTION:WhenKickoff reminder for Chapecoense AF vs Coritiba FBC
URL:https://whenkickoff.com/en/match/chapecoense-af-vs-coritiba-fbc-554762/
BEGIN:VALARM
TRIGGER:-PT15M
ACTION:DISPLAY
DESCRIPTION:Match starts soon
END:VALARM
END:VEVENT
END:VCALENDAR
