BEGIN:VCALENDAR
VERSION:2.0
PRODID:-//WhenKickoff//Match Reminder//EN
BEGIN:VEVENT
UID:wk-554761-15@whenkickoff.com
DTSTAMP:20260420T080411Z
DTSTART:20260211T230000Z
DTEND:20260212T010000Z
SUMMARY:CA Mineiro vs Clube do Remo
DESCRIPTION:WhenKickoff reminder for CA Mineiro vs Clube do Remo
URL:https://whenkickoff.com/en/match/ca-mineiro-vs-clube-do-remo-554761/
BEGIN:VALARM
TRIGGER:-PT15M
ACTION:DISPLAY
DESCRIPTION:Match starts soon
END:VALARM
END:VEVENT
END:VCALENDAR
