BEGIN:VCALENDAR
VERSION:2.0
PRODID:-//WhenKickoff//Match Reminder//EN
BEGIN:VEVENT
UID:wk-554759-15@whenkickoff.com
DTSTAMP:20260420T142848Z
DTSTART:20260205T230000Z
DTEND:20260206T010000Z
SUMMARY:CR Vasco da Gama vs Chapecoense AF
DESCRIPTION:WhenKickoff reminder for CR Vasco da Gama vs Chapecoense AF
URL:https://whenkickoff.com/en/match/cr-vasco-da-gama-vs-chapecoense-af-554759/
BEGIN:VALARM
TRIGGER:-PT15M
ACTION:DISPLAY
DESCRIPTION:Match starts soon
END:VALARM
END:VEVENT
END:VCALENDAR
