BEGIN:VCALENDAR
VERSION:2.0
PRODID:-//WhenKickoff//Match Reminder//EN
BEGIN:VEVENT
UID:wk-554758-15@whenkickoff.com
DTSTAMP:20260420T145234Z
DTSTART:20260204T230000Z
DTEND:20260205T010000Z
SUMMARY:Santos FC vs São Paulo FC
DESCRIPTION:WhenKickoff reminder for Santos FC vs São Paulo FC
URL:https://whenkickoff.com/en/match/santos-fc-vs-s-o-paulo-fc-554758/
BEGIN:VALARM
TRIGGER:-PT15M
ACTION:DISPLAY
DESCRIPTION:Match starts soon
END:VALARM
END:VEVENT
END:VCALENDAR
